Workbook

Sheet стр.1
AG1: ОГРН | CK1: Приложение № 1 к приказу ФНС России от 08.09.2021 № ЕД-7-20/800@
AG4: ИНН
AG6: КПП | BO6: Стр. | BX6: 0 | CA6: 0 | CD6: 1
DP8: Форма по КНД 1110063
A10: Заявление
A11: о соответствии модели контрольно-кассовой техники требованиям законодательства
A12: Российской Федерации о применении контрольно-кассовой техники
A19: (полное наименование изготовителя контрольно-кассовой техники с указанием организационно-правовой формы)
A21: просит включить сведения о модели контрольно-кассовой техники в реестр контрольно-кассовой техники:
A24: (наименование модели контрольно-кассовой техники)
A26: Номер версии модели контрольно-кассовой техники
A29: (поддерживаемая(ые) версия(и) форматов фискальных документов)
A31: Настоящее заявление составлено на | AS31: страницах с приложением документов и (или)
A33: их копий на | W33: листах.
A35: Достоверность и полноту сведений, указанных | BJ35: Заполняется работником налогового органа
A36: в настоящем заявлении, подтверждаю: | BK36: Данное заявление представлено
BK38: на | BY38: страницах
BK39: с приложением документов и (или) их копий на
CY40: листах
BK42: Дата представления
A43: (фамилия, имя, отчество 1 руководителя организации - изготовителя контрольно-кассовой техники) | CI43: . | CR43: .
AH46: . | AQ46: .
A47: (подпись) | AB47: (дата)
BK48: (фамилия, И.О.1) | CO48: (подпись)
A50: 1_Отчество указывается при наличии.

Sheet стр.2_Разд.1
AG1: ОГРН | AN1: =IF(ISBLANK(стр.1!AN1),"",стр.1!AN1) | AQ1: =IF(ISBLANK(стр.1!AQ1),"",стр.1!AQ1) | AT1: =IF(ISBLANK(стр.1!AT1),"",стр.1!AT1) | AW1: =IF(ISBLANK(стр.1!AW1),"",стр.1!AW1) | AZ1: =IF(ISBLANK(стр.1!AZ1),"",стр.1!AZ1) | BC1: =IF(ISBLANK(стр.1!BC1),"",стр.1!BC1) | BF1: =IF(ISBLANK(стр.1!BF1),"",стр.1!BF1) | BI1: =IF(ISBLANK(стр.1!BI1),"",стр.1!BI1) | BL1: =IF(ISBLANK(стр.1!BL1),"",стр.1!BL1) | BO1: =IF(ISBLANK(стр.1!BO1),"",стр.1!BO1) | BR1: =IF(ISBLANK(стр.1!BR1),"",стр.1!BR1) | BU1: =IF(ISBLANK(стр.1!BU1),"",стр.1!BU1) | BX1: =IF(ISBLANK(стр.1!BX1),"",стр.1!BX1) | CA1: =IF(ISBLANK(стр.1!CA1),"",стр.1!CA1) | CD1: =IF(ISBLANK(стр.1!CD1),"",стр.1!CD1)
AG4: ИНН | AN4: =IF(ISBLANK(стр.1!AN4),"",стр.1!AN4) | AQ4: =IF(ISBLANK(стр.1!AQ4),"",стр.1!AQ4) | AT4: =IF(ISBLANK(стр.1!AT4),"",стр.1!AT4) | AW4: =IF(ISBLANK(стр.1!AW4),"",стр.1!AW4) | AZ4: =IF(ISBLANK(стр.1!AZ4),"",стр.1!AZ4) | BC4: =IF(ISBLANK(стр.1!BC4),"",стр.1!BC4) | BF4: =IF(ISBLANK(стр.1!BF4),"",стр.1!BF4) | BI4: =IF(ISBLANK(стр.1!BI4),"",стр.1!BI4) | BL4: =IF(ISBLANK(стр.1!BL4),"",стр.1!BL4) | BO4: =IF(ISBLANK(стр.1!BO4),"",стр.1!BO4)
AG6: КПП | AN6: =IF(ISBLANK(стр.1!AN6),"",стр.1!AN6) | AQ6: =IF(ISBLANK(стр.1!AQ6),"",стр.1!AQ6) | AT6: =IF(ISBLANK(стр.1!AT6),"",стр.1!AT6) | AW6: =IF(ISBLANK(стр.1!AW6),"",стр.1!AW6) | AZ6: =IF(ISBLANK(стр.1!AZ6),"",стр.1!AZ6) | BC6: =IF(ISBLANK(стр.1!BC6),"",стр.1!BC6) | BF6: =IF(ISBLANK(стр.1!BF6),"",стр.1!BF6) | BI6: =IF(ISBLANK(стр.1!BI6),"",стр.1!BI6) | BL6: =IF(ISBLANK(стр.1!BL6),"",стр.1!BL6) | BO6: Стр.
A10: Раздел 1. Сведения о возможностях использования модели контрольно-кассовой техники
A12: Показатели | BI12: Код строки | BU12: Значения показателей
A13: Контрольно-кассовая техника предназначена для использования только в автоматических устройствах для расчетов
BI14: 010 | CO14: 1 - да, 2 - нет
A16: Контрольно-кассовая техника предназначена только для осуществления расчетов в безналичном порядке в сети "Интернет"
BI17: 020 | CO17: 1 - да, 2 - нет
A19: Контрольно-кассовая техника предназначена для использования только с автоматическими устройствами для расчетов в случаях, предусмотренных пунктом 5.1 статьи 1.2 Федерального закона от 22.05.2003 № 54-ФЗ "О применении контрольно-кассовой техники при осуществлении расчетов в Российской Федерации"
BI20: 025 | CO20: 1 - да, 2 - нет
A22: Контрольно-кассовая техника является автоматизированной системой для бланков строгой отчетности
BI23: 030 | CO23: 1 - да, 2 - нет
A25: Контрольно-кассовая техника предназначена для использования в случаях, предусмотренных пунктом 6.1 статьи 1.2 Федерального закона от 22.05.2003 № 54-ФЗ "О применении контрольно-кассовой техники при осуществлении расчетов в Российской Федерации", если контрольно-кассовая техника обеспечивает возможность ее применения в указанных случаях
BI26: 035 | CO26: 1 - да, 2 - нет
A30: Достоверность и полноту сведений, указанных на данной странице, подтверждаю:
BO32: (подпись) | CQ32: (дата)

Sheet стр.3_Разд.2
AG1: ОГРН | AN1: =IF(ISBLANK(стр.1!AN1),"",стр.1!AN1) | AQ1: =IF(ISBLANK(стр.1!AQ1),"",стр.1!AQ1) | AT1: =IF(ISBLANK(стр.1!AT1),"",стр.1!AT1) | AW1: =IF(ISBLANK(стр.1!AW1),"",стр.1!AW1) | AZ1: =IF(ISBLANK(стр.1!AZ1),"",стр.1!AZ1) | BC1: =IF(ISBLANK(стр.1!BC1),"",стр.1!BC1) | BF1: =IF(ISBLANK(стр.1!BF1),"",стр.1!BF1) | BI1: =IF(ISBLANK(стр.1!BI1),"",стр.1!BI1) | BL1: =IF(ISBLANK(стр.1!BL1),"",стр.1!BL1) | BO1: =IF(ISBLANK(стр.1!BO1),"",стр.1!BO1) | BR1: =IF(ISBLANK(стр.1!BR1),"",стр.1!BR1) | BU1: =IF(ISBLANK(стр.1!BU1),"",стр.1!BU1) | BX1: =IF(ISBLANK(стр.1!BX1),"",стр.1!BX1) | CA1: =IF(ISBLANK(стр.1!CA1),"",стр.1!CA1) | CD1: =IF(ISBLANK(стр.1!CD1),"",стр.1!CD1)
AG4: ИНН | AN4: =IF(ISBLANK(стр.1!AN4),"",стр.1!AN4) | AQ4: =IF(ISBLANK(стр.1!AQ4),"",стр.1!AQ4) | AT4: =IF(ISBLANK(стр.1!AT4),"",стр.1!AT4) | AW4: =IF(ISBLANK(стр.1!AW4),"",стр.1!AW4) | AZ4: =IF(ISBLANK(стр.1!AZ4),"",стр.1!AZ4) | BC4: =IF(ISBLANK(стр.1!BC4),"",стр.1!BC4) | BF4: =IF(ISBLANK(стр.1!BF4),"",стр.1!BF4) | BI4: =IF(ISBLANK(стр.1!BI4),"",стр.1!BI4) | BL4: =IF(ISBLANK(стр.1!BL4),"",стр.1!BL4) | BO4: =IF(ISBLANK(стр.1!BO4),"",стр.1!BO4)
AG6: КПП | AN6: =IF(ISBLANK(стр.1!AN6),"",стр.1!AN6) | AQ6: =IF(ISBLANK(стр.1!AQ6),"",стр.1!AQ6) | AT6: =IF(ISBLANK(стр.1!AT6),"",стр.1!AT6) | AW6: =IF(ISBLANK(стр.1!AW6),"",стр.1!AW6) | AZ6: =IF(ISBLANK(стр.1!AZ6),"",стр.1!AZ6) | BC6: =IF(ISBLANK(стр.1!BC6),"",стр.1!BC6) | BF6: =IF(ISBLANK(стр.1!BF6),"",стр.1!BF6) | BI6: =IF(ISBLANK(стр.1!BI6),"",стр.1!BI6) | BL6: =IF(ISBLANK(стр.1!BL6),"",стр.1!BL6) | BO6: Стр.
A8: Раздел 2. Сведения об экспертных заключениях о соответствии модели
A9: контрольно-кассовой техники требованиям законодательства Российской Федерации
A10: о применении контрольно-кассовой техники
A12: Показатели | AW12: Код строки | BI12: Значения показателей
A14: Дата выдачи и номер положительного экспертного заключения экспертной организации о соответствии версии модели контрольно-кассовой техники, указанной в настоящем заявлении, требованиям законодательства Российской Федерации о применении контрольно-кассовой техники и сведения, содержащиеся в таком заключении | AW14: 040
A23: Наименования моделей фискальных накопителей, сведения о которых содержатся в реестре фискальных накопителей и в отношении которых федеральным органом исполнительной власти в области обеспечения безопасности на основании экспертизы результатов оценки влияния версии модели контрольно-кассовой техники, | AW23: 050
A30: указанной в настоящем заявлении, на выполнение этими моделями фискальных накопителей установленных требований к шифровальным (криптографическим) средствам защиты фискальных данных были подготовлены заключения об отсутствии указанного влияния, а также даты и номера выписок из данных заключений
A42: Достоверность и полноту сведений, указанных на данной странице, подтверждаю:
BO44: (подпись) | CQ44: (дата)
