Workbook

Sheet стр.1
X1: ОГРН/ОГРНИП | CO1: Приложение № 2 к приказу ФНС России от 08.09.2021 № ЕД-7-20/799@
AG4: ИНН
AG6: КПП | BO6: Стр.
DP8: Форма по КНД 1110062
A9: Заявление
A10: о снятии контрольно-кассовой техники с регистрационного учета
A17: (полное наименование организации-пользователя или фамилия, имя, отчество (при наличии) индивидуального предпринимателя-пользователя)
A19: просит снять контрольно-кассовую технику с регистрационного учета
AQ21: Код строки
A22: Наименование модели контрольно-кассовой техники | AQ22: 010
A24: Заводской номер экземпляра модели контрольно-кассовой техники | AQ24: 020
A26: Заявление о снятии с регистрационного учета представляется в связи с хищением контрольно-кассовой техники | BI26: 1 - да, 2 - нет
A29: Заявление о снятии с регистрационного учета представляется в связи с потерей контрольно-кассовой техники | BI29: 1 - да, 2 - нет
A32: Настоящее заявление составлено на | AS32: страницах с приложением документа и (или)
A34: его копии на | W34: листах.
A36: Достоверность и полноту сведений, указанных | BJ36: Заполняется работником налогового органа
A37: в настоящем заявлении, подтверждаю:
J38: 1 - пользователь 2 - представитель пользователя | BK38: Данное заявление представлено на
CW39: страницах
BK41: с приложением документа и (или) его копии на
CW42: листах
BK44: Дата представления заявления
CJ45: . | CS45: .
A47: (фамилия, имя, отчество (при наличии) руководителя организации/ обособленного подразделения организации/ индивидуального предпринимателя/представителя)
AH51: . | AQ51: . | BK51: (фамилия, И.О. (при наличии)) | CO51: (подпись)
A52: (подпись) | AB52: (дата)

Sheet стр.2
X1: ОГРН/ОГРНИП | AN1: =IF(ISBLANK(стр.1!AN1),"",стр.1!AN1) | AQ1: =IF(ISBLANK(стр.1!AQ1),"",стр.1!AQ1) | AT1: =IF(ISBLANK(стр.1!AT1),"",стр.1!AT1) | AW1: =IF(ISBLANK(стр.1!AW1),"",стр.1!AW1) | AZ1: =IF(ISBLANK(стр.1!AZ1),"",стр.1!AZ1) | BC1: =IF(ISBLANK(стр.1!BC1),"",стр.1!BC1) | BF1: =IF(ISBLANK(стр.1!BF1),"",стр.1!BF1) | BI1: =IF(ISBLANK(стр.1!BI1),"",стр.1!BI1) | BL1: =IF(ISBLANK(стр.1!BL1),"",стр.1!BL1) | BO1: =IF(ISBLANK(стр.1!BO1),"",стр.1!BO1) | BR1: =IF(ISBLANK(стр.1!BR1),"",стр.1!BR1) | BU1: =IF(ISBLANK(стр.1!BU1),"",стр.1!BU1) | BX1: =IF(ISBLANK(стр.1!BX1),"",стр.1!BX1) | CA1: =IF(ISBLANK(стр.1!CA1),"",стр.1!CA1) | CD1: =IF(ISBLANK(стр.1!CD1),"",стр.1!CD1)
AG4: ИНН | AN4: =IF(ISBLANK(стр.1!AN4),"",стр.1!AN4) | AQ4: =IF(ISBLANK(стр.1!AQ4),"",стр.1!AQ4) | AT4: =IF(ISBLANK(стр.1!AT4),"",стр.1!AT4) | AW4: =IF(ISBLANK(стр.1!AW4),"",стр.1!AW4) | AZ4: =IF(ISBLANK(стр.1!AZ4),"",стр.1!AZ4) | BC4: =IF(ISBLANK(стр.1!BC4),"",стр.1!BC4) | BF4: =IF(ISBLANK(стр.1!BF4),"",стр.1!BF4) | BI4: =IF(ISBLANK(стр.1!BI4),"",стр.1!BI4) | BL4: =IF(ISBLANK(стр.1!BL4),"",стр.1!BL4) | BO4: =IF(ISBLANK(стр.1!BO4),"",стр.1!BO4) | BR4: =IF(ISBLANK(стр.1!BR4),"",стр.1!BR4) | BU4: =IF(ISBLANK(стр.1!BU4),"",стр.1!BU4)
AG6: КПП | AN6: =IF(ISBLANK(стр.1!AN6),"",стр.1!AN6) | AQ6: =IF(ISBLANK(стр.1!AQ6),"",стр.1!AQ6) | AT6: =IF(ISBLANK(стр.1!AT6),"",стр.1!AT6) | AW6: =IF(ISBLANK(стр.1!AW6),"",стр.1!AW6) | AZ6: =IF(ISBLANK(стр.1!AZ6),"",стр.1!AZ6) | BC6: =IF(ISBLANK(стр.1!BC6),"",стр.1!BC6) | BF6: =IF(ISBLANK(стр.1!BF6),"",стр.1!BF6) | BI6: =IF(ISBLANK(стр.1!BI6),"",стр.1!BI6) | BL6: =IF(ISBLANK(стр.1!BL6),"",стр.1!BL6) | BO6: Стр.
A8: Наименование документа, подтверждающего полномочия представителя
A45: Достоверность и полноту сведений, указанных на данной странице, подтверждаю:
BO47: (подпись) | CQ47: (дата)

Sheet стр.3_Разд.1
X1: ОГРН/ОГРНИП | AN1: =IF(ISBLANK(стр.1!AN1),"",стр.1!AN1) | AQ1: =IF(ISBLANK(стр.1!AQ1),"",стр.1!AQ1) | AT1: =IF(ISBLANK(стр.1!AT1),"",стр.1!AT1) | AW1: =IF(ISBLANK(стр.1!AW1),"",стр.1!AW1) | AZ1: =IF(ISBLANK(стр.1!AZ1),"",стр.1!AZ1) | BC1: =IF(ISBLANK(стр.1!BC1),"",стр.1!BC1) | BF1: =IF(ISBLANK(стр.1!BF1),"",стр.1!BF1) | BI1: =IF(ISBLANK(стр.1!BI1),"",стр.1!BI1) | BL1: =IF(ISBLANK(стр.1!BL1),"",стр.1!BL1) | BO1: =IF(ISBLANK(стр.1!BO1),"",стр.1!BO1) | BR1: =IF(ISBLANK(стр.1!BR1),"",стр.1!BR1) | BU1: =IF(ISBLANK(стр.1!BU1),"",стр.1!BU1) | BX1: =IF(ISBLANK(стр.1!BX1),"",стр.1!BX1) | CA1: =IF(ISBLANK(стр.1!CA1),"",стр.1!CA1) | CD1: =IF(ISBLANK(стр.1!CD1),"",стр.1!CD1)
AG4: ИНН | AN4: =IF(ISBLANK(стр.1!AN4),"",стр.1!AN4) | AQ4: =IF(ISBLANK(стр.1!AQ4),"",стр.1!AQ4) | AT4: =IF(ISBLANK(стр.1!AT4),"",стр.1!AT4) | AW4: =IF(ISBLANK(стр.1!AW4),"",стр.1!AW4) | AZ4: =IF(ISBLANK(стр.1!AZ4),"",стр.1!AZ4) | BC4: =IF(ISBLANK(стр.1!BC4),"",стр.1!BC4) | BF4: =IF(ISBLANK(стр.1!BF4),"",стр.1!BF4) | BI4: =IF(ISBLANK(стр.1!BI4),"",стр.1!BI4) | BL4: =IF(ISBLANK(стр.1!BL4),"",стр.1!BL4) | BO4: =IF(ISBLANK(стр.1!BO4),"",стр.1!BO4) | BR4: =IF(ISBLANK(стр.1!BR4),"",стр.1!BR4) | BU4: =IF(ISBLANK(стр.1!BU4),"",стр.1!BU4)
AG6: КПП | AN6: =IF(ISBLANK(стр.1!AN6),"",стр.1!AN6) | AQ6: =IF(ISBLANK(стр.1!AQ6),"",стр.1!AQ6) | AT6: =IF(ISBLANK(стр.1!AT6),"",стр.1!AT6) | AW6: =IF(ISBLANK(стр.1!AW6),"",стр.1!AW6) | AZ6: =IF(ISBLANK(стр.1!AZ6),"",стр.1!AZ6) | BC6: =IF(ISBLANK(стр.1!BC6),"",стр.1!BC6) | BF6: =IF(ISBLANK(стр.1!BF6),"",стр.1!BF6) | BI6: =IF(ISBLANK(стр.1!BI6),"",стр.1!BI6) | BL6: =IF(ISBLANK(стр.1!BL6),"",стр.1!BL6) | BO6: Стр.
A8: Раздел 1. Сведения о сформированных фискальных документах
F10: Фискальный накопитель, находящийся внутри корпуса контрольно-кассовой техники, неисправен или контрольно-кассовая техника утрачена или похищена
AR11: 030 | BJ11: 1 - да, 2 - нет
A14: 1.1. Сведения из отчета о закрытии фискального накопителя 1
F16: Номер отчета о закрытии фискального накопителя
AR17: 040
F20: Дата формирования отчета о закрытии фискального накопителя
AR21: 050 | BJ21: . | BS21: .
F24: Время формирования отчета о закрытии фискального накопителя
AR25: 060 | BJ25: :
F28: Фискальный признак документа | AR28: 070
A46: Достоверность и полноту сведений, указанных на данной странице, подтверждаю:
BO48: (подпись) | CQ48: (дата)
A50: 1_Не заполняется в случае, если в строке 030 проставлена цифра "1".
